BEGIN:VCALENDAR
VERSION:2.0
PRODID:-//The Markaz Review - ECPv6.15.20//NONSGML v1.0//EN
CALSCALE:GREGORIAN
METHOD:PUBLISH
X-WR-CALNAME:The Markaz Review
X-ORIGINAL-URL:https://themarkaz.org/oldsite
X-WR-CALDESC:Events for The Markaz Review
REFRESH-INTERVAL;VALUE=DURATION:PT1H
X-Robots-Tag:noindex
X-PUBLISHED-TTL:PT1H
BEGIN:VTIMEZONE
TZID:America/Los_Angeles
BEGIN:DAYLIGHT
TZOFFSETFROM:-0800
TZOFFSETTO:-0700
TZNAME:PDT
DTSTART:20210314T100000
END:DAYLIGHT
BEGIN:STANDARD
TZOFFSETFROM:-0700
TZOFFSETTO:-0800
TZNAME:PST
DTSTART:20211107T090000
END:STANDARD
BEGIN:DAYLIGHT
TZOFFSETFROM:-0800
TZOFFSETTO:-0700
TZNAME:PDT
DTSTART:20220313T100000
END:DAYLIGHT
BEGIN:STANDARD
TZOFFSETFROM:-0700
TZOFFSETTO:-0800
TZNAME:PST
DTSTART:20221106T090000
END:STANDARD
BEGIN:DAYLIGHT
TZOFFSETFROM:-0800
TZOFFSETTO:-0700
TZNAME:PDT
DTSTART:20230312T100000
END:DAYLIGHT
BEGIN:STANDARD
TZOFFSETFROM:-0700
TZOFFSETTO:-0800
TZNAME:PST
DTSTART:20231105T090000
END:STANDARD
END:VTIMEZONE
BEGIN:VEVENT
DTSTART;TZID=America/Los_Angeles:20220421T183000
DTEND;TZID=America/Los_Angeles:20220421T203000
DTSTAMP:20260423T121245
CREATED:20220409T065731Z
LAST-MODIFIED:20221218T185316Z
UID:10000005-1650565800-1650573000@themarkaz.org
SUMMARY:AZAD\, an immersive theatrical performance in Los Angeles for Armenian and Syrian culture
DESCRIPTION:This is a ticketed event (Apr 21\, 22\, 23)\, RSVP HERE.\n  \nIn honor and in advance of the annual Armenian commemoration of the Armenian Genocide\, on April 24th\, 2022\, The Markaz Review recommends this Los Angeles theatre event\, with five performances on Apr 21\, 22 & 23. \nA woman’s magical\, healing journey from the Armenian Genocide to the Syrian war\, weaving Karagöz puppetry\, Hakawati storytelling and more. \n\n\nAZAD ( “Free” in Armenian) is a kaleidoscopic story within a story within a story\, centered around a storyteller’s discovery of her great-great grandfather’s shadow puppets in Aleppo… \n\n\nIn the winter of 2019\, an Armenian artist returned to her Aleppan family home for the first time since the Syrian war. There\, in the attic\, she found her great-grandfather’s Karagöz shadow puppets\, the magical extension of his voice as a citizen of the Ottoman Empire. When the tragedy of the Armenian Genocide befell the community\, he escaped his home with his wife\, seven children and his trunk full of his beloved puppets to re-build a life in Aleppo.  \nSona Tatoyan\nAZAD is an immersive\, magical\, theatrical experience. It weaves together the classical art of oral Middle Eastern storytelling with centuries old Anatolian Karagöz shadow puppets and the magic of cinema. \nThe performance transports the audience to a Middle Eastern coffee shop with its tastes and smells\, where for centuries storytellers (Hakawatis) and Karagöz (a form of pre-cinema playing with shadow and light) shadow puppeteers performed the tales from 1001 Nights. Projections and lighting transform this coffee shop from Ottoman times to modern pre-civil war Aleppo. Transcendent\, classical music seamlessly blends with modern surround electronic soundscapes. The result: a multi-sensorial\, time traveling exploration of healing. Audiences see\, hear\, smell and taste what it was like to be in Aleppo through various times in the city’s history – connecting us all to the legacy of a family of storytellers transmuting trauma into art. \nSona Tatoyan a first generation Syrian-Armenian-American actor/writer/producer with bases in Aleppo\, Syria; Berlin\, Germany; LA\, California and Yerevan\, Armenia. As an actress\, stage credits include world premieres at Yale Repertory Theatre\, The Goodman Theatre\, The American Conservatory Theatre and others. She starred in The Journey\, the first American independent film shot in Armenia (winner\, Audience Award Milan Film Festival\, 2002). As a writer her first feature film script\, The First Full Moon\, was a 2011 Sundance/RAWI Screenwriters Lab participant and 2012 Dubai Film Connection/Festival Project. Ms. Tatoyan co-founded Hakawati\, a nonprofit storytelling vehicle focusing on elevating the voices of frontline and marginalized communities. \n  \nThis is a ticketed event (three dates)\, RSVP HERE.\n 
URL:https://themarkaz.org/oldsite/event/azad-theatrical-performance-los-angeles/
LOCATION:The Pico\, 10508 West Pico Boulevard\, Los Angeles\, CA\, 90064\, United States
CATEGORIES:Theatre Performance
ATTACH;FMTTYPE=image/jpeg:https://themarkaz.org/oldsite/wp-content/uploads/2022/04/azad-armenian-event-in-los-angeles-april-2022.jpg
END:VEVENT
END:VCALENDAR