BEGIN:VCALENDAR
VERSION:2.0
PRODID:-//The Markaz Review - ECPv6.15.20//NONSGML v1.0//EN
CALSCALE:GREGORIAN
METHOD:PUBLISH
X-WR-CALNAME:The Markaz Review
X-ORIGINAL-URL:https://themarkaz.org/oldsite
X-WR-CALDESC:Events for The Markaz Review
REFRESH-INTERVAL;VALUE=DURATION:PT1H
X-Robots-Tag:noindex
X-PUBLISHED-TTL:PT1H
BEGIN:VTIMEZONE
TZID:Europe/Paris
BEGIN:DAYLIGHT
TZOFFSETFROM:+0100
TZOFFSETTO:+0200
TZNAME:CEST
DTSTART:20220327T010000
END:DAYLIGHT
BEGIN:STANDARD
TZOFFSETFROM:+0200
TZOFFSETTO:+0100
TZNAME:CET
DTSTART:20221030T010000
END:STANDARD
BEGIN:DAYLIGHT
TZOFFSETFROM:+0100
TZOFFSETTO:+0200
TZNAME:CEST
DTSTART:20230326T010000
END:DAYLIGHT
BEGIN:STANDARD
TZOFFSETFROM:+0200
TZOFFSETTO:+0100
TZNAME:CET
DTSTART:20231029T010000
END:STANDARD
BEGIN:DAYLIGHT
TZOFFSETFROM:+0100
TZOFFSETTO:+0200
TZNAME:CEST
DTSTART:20240331T010000
END:DAYLIGHT
BEGIN:STANDARD
TZOFFSETFROM:+0200
TZOFFSETTO:+0100
TZNAME:CET
DTSTART:20241027T010000
END:STANDARD
END:VTIMEZONE
BEGIN:VEVENT
DTSTART;TZID=Europe/Paris:20230926T190000
DTEND;TZID=Europe/Paris:20230926T200000
DTSTAMP:20260421T200017
CREATED:20230908T120944Z
LAST-MODIFIED:20230908T121155Z
UID:10000029-1695754800-1695758400@themarkaz.org
SUMMARY:26 sept\, Montpellier— Rencontre Littéraire\, "Oublier Camus" avec Olivier Gloag
DESCRIPTION:Rencontre avec Olivier Gloag\, auteur franco-américain; maître de conférence à l’université de Caroline du Nord (UNC).\nModération de Pierre Daum\, reporter au Monde Diplomatique\, et auteur d’ouvrages sur le passé colonial de la France. \nmardi\, 26 septembre\, 19h au Librairie Le Grain des mots\, 15 Bd du Jeu de Paume\, 34000 Montpellier. Entrée libre. \n\nDes programmes scolaires aux discours politiques\, dans les médias et les conversations mondaines\, Camus est partout le parangon d’un humanisme abstrait qui a ceci de commode – et de suspect – qu’il plait à droite comme à gauche. Peu de chercheurs se sont penchés sur les contradictions du personnage comme le fait Olivier Gloag dans son ouvrage Oublier Camus (La Fabrique\, sept. 2023)\, à partir d’une relecture de Camus dans le texte – contradictions qui constituent pourtant la force motrice de l’œuvre camusienne\, une clé de son « style »\, et expliquent sa popularité actuelle. \nOlivier Gloag rappelle l’attachement viscéral de Camus au colonialisme et au mode de vie des colons qui traverse ses trois romans majeurs\, L’Étranger\, La Peste et Le Premier Homme. Il examine ses engagements politiques à la lumière de sa brouille avec Sartre : la tension entre révolte et révolution\, son recours à l’absurde comme refus du cours de l’Histoire\, son anticommunisme et son déni de la lutte des peuples colonisés. Il se penche enfin sur les récupérations de Camus : l’auteur le plus populaire en France et le Français le plus lu dans le monde est devenu un enjeu politique et idéologique. L’invocation d’un Camus mythifié projette un reflet flatteur mais falsificateur de l’histoire coloniale. C’est ce Camus-là qu’il faut oublier pour reconnaître les déchirements d’un écrivain tout aussi passionnément attaché aux acquis sociaux du Front populaire qu’à la présence française en Algérie.
URL:https://themarkaz.org/oldsite/event/26-sept-rencontre-litteraire-oublier-camus-avec-olivier-gloag/
LOCATION:Online
ATTACH;FMTTYPE=image/jpeg:https://themarkaz.org/oldsite/wp-content/uploads/2023/09/26-sept-flyer.jpg
END:VEVENT
END:VCALENDAR